BEGIN:VCALENDAR
VERSION:2.0
PRODID:icalendar-ruby
CALSCALE:GREGORIAN
METHOD:PUBLISH
BEGIN:VEVENT
DTSTAMP:20260424T170735Z
UID:28-630345@vocc.org
DTSTART:20260509T170000Z
DTEND:20260509T210000Z
CLASS:PUBLIC
CREATED:20260421T170331
DESCRIPTION:Thank you for your commitment to donate blood at our upcoming B
 lood Drive.\nRequirements to donate blood:\n\nEat a good meal.\nDrink plen
 ty of water\nBe at least 16 years old with parent consent\nWeigh a minimum
  of 110lbs\nPresent your physical picture ID (Student ID on digital platfo
 rm is acceptable)\n\nAnyone can donate blood and each donation is a vote f
 or your favorite agency. There will be food and information booths availab
 le.\nYour blood donation has the power to save multiple lives right here i
 n our community. The donation process takes about an hour\, and we’re so
  grateful for your life-saving support. Thank you in advance\, and we look
  forward to seeing you there!
LAST-MODIFIED:20260421T170331
LOCATION: 1970 W. Henderson Porterville\, CA 93257 Valley Oak Community Chu
 rch Parking Lot
SUMMARY:Battle of the Badges Saving Lives Blood Drive
URL;VALUE=URI:https://www.vocc.org/events/battle-of-the-badges-saving-lives
 -blood-drive/2026-05-09
ATTACH;FILENAME=Battle-of-the-Badges-small-05092026.jpg;FMTTYPE=image/jpeg:
 https://dq5pwpg1q8ru0.cloudfront.net/2026/04/21/23/39/39/5355c188-7349-47c
 e-9ca1-f1bd385050d1/Battle-of-the-Badges-small-05092026.jpg
END:VEVENT
END:VCALENDAR
